BEGIN:VCALENDAR
PRODID:-//eluceo/ical//2.0/EN
VERSION:2.0
CALSCALE:GREGORIAN
BEGIN:VEVENT
UID:d184b961c407b0b6de1d90cab9ab63bf
DTSTAMP:20260421T224139Z
SUMMARY:Filme für die Erde Festival
DESCRIPTION:Das «Filme für die Erde Festival» zeigt die besten Umweltdok
 us\ndes Jahres\, darunter auch Filmpremieren. Der Fokus: Biodiversität\,\
 nKlimaschutz und Landwirtschaft.\n
DTSTART:20231026T070000Z
DTEND:20231026T210000Z
LOCATION:Bireggstrasse 36\, 6003 Luzern
GEO:47.041410;8.307134
X-APPLE-STRUCTURED-LOCATION;VALUE=URI;X-ADDRESS=Bireggstrasse 36\, 6003 Luz
 ern;X-APPLE-RADIUS=49;X-TITLE=:geo:47.041410,8.307134
END:VEVENT
END:VCALENDAR
