BEGIN:VCALENDAR
PRODID:-//eluceo/ical//2.0/EN
VERSION:2.0
CALSCALE:GREGORIAN
BEGIN:VEVENT
UID:46fef732003d236858b5f749b1e1a4e4
DTSTAMP:20260421T224744Z
SUMMARY:AUSGEBUCHT: Vom Waffenplatz zum Naturerlebnisgebiet
DESCRIPTION:Die Allmend hat eine bewegte Geschichte hinter sich:\nEinst Sch
 wemmebene\, dann gemeinschaftlich genutztes Weidegebiet\,\nspäter Waffen-
  und Schiessplatz\, Sportgelände und Ort für\nGrossveranstaltungen. Und 
 ebenso ist sie ein Hotspot der\nBiodiversität.\n
DTSTART:20231018T150000Z
DTEND:20231018T163000Z
LOCATION:Bushaltestelle Allmend Messe\, 6005 Luzern
GEO:47.035071;8.303234
X-APPLE-STRUCTURED-LOCATION;VALUE=URI;X-ADDRESS=Bushaltestelle Allmend Mess
 e\, 6005 Luzern;X-APPLE-RADIUS=49;X-TITLE=:geo:47.035071,8.303234
END:VEVENT
END:VCALENDAR
