BEGIN:VCALENDAR
PRODID:-//eluceo/ical//2.0/EN
VERSION:2.0
CALSCALE:GREGORIAN
BEGIN:VEVENT
UID:18983379b5a8c982148eebf7c06a1752
DTSTAMP:20260421T224047Z
SUMMARY:Pilzexkursion
DESCRIPTION:Ins Reich der Pilze mit einem erfahrenen Pilzexperten. Eine Exk
 ursion\nim Bireggwald Luzern für Naturbegeisterte ohne Vorkenntnisse sowi
 e\nfür Fortgeschrittene.\n
DTSTART:20231022T063000Z
DTEND:20231022T103000Z
LOCATION:Zihlmattweg 46\, 6005 Luzern
GEO:47.031495;8.305074
X-APPLE-STRUCTURED-LOCATION;VALUE=URI;X-ADDRESS=Zihlmattweg 46\, 6005 Luzer
 n;X-APPLE-RADIUS=49;X-TITLE=:geo:47.031495,8.305074
END:VEVENT
END:VCALENDAR
