BEGIN:VCALENDAR
PRODID:-//eluceo/ical//2.0/EN
VERSION:2.0
CALSCALE:GREGORIAN
BEGIN:VEVENT
UID:72edbbe1c2b9c6524ce5c9b8b360dfc7
DTSTAMP:20260421T224713Z
SUMMARY:Pilzexkursion
DESCRIPTION:Ins Reich der Pilze mit einem erfahrenen Pilzexperten. Eine Exk
 ursion\nim Bireggwald Luzern für Naturbegeisterte ohne Vorkenntnisse sowi
 e\nfür Fortgeschrittene.\n
DTSTART:20230917T063000Z
DTEND:20230917T103000Z
LOCATION:Zihlmattweg 46\, 6005 Luzern
GEO:47.031495;8.305074
X-APPLE-STRUCTURED-LOCATION;VALUE=URI;X-ADDRESS=Zihlmattweg 46\, 6005 Luzer
 n;X-APPLE-RADIUS=49;X-TITLE=:geo:47.031495,8.305074
END:VEVENT
END:VCALENDAR
