BEGIN:VCALENDAR
PRODID:-//eluceo/ical//2.0/EN
VERSION:2.0
CALSCALE:GREGORIAN
BEGIN:VEVENT
UID:ff4aba5f2de1b2f6f5b3809a5dfe3ea3
DTSTAMP:20260421T224743Z
SUMMARY:Schweine in naturnahem Umfeld erleben
DESCRIPTION:Im Kanton Luzern leben mehr Schweine als Menschen. Wir sehen\ns
 ie allerdings selten. Bei unserem Besuch auf dem Panoramahof in\nMeggen be
 obachten wir die sozialen Tiere und lernen viel Neues über\ndas natürlic
 he Verhalten und die Haltung von Schweinen.\n
DTSTART:20230914T153000Z
DTEND:20230914T170000Z
LOCATION:Tschädigenstrasse 9\, 6045 Meggen
GEO:47.062902;8.387058
X-APPLE-STRUCTURED-LOCATION;VALUE=URI;X-ADDRESS=Tschädigenstrasse 9\, 6045
  Meggen;X-APPLE-RADIUS=49;X-TITLE=:geo:47.062902,8.387058
END:VEVENT
END:VCALENDAR
