BEGIN:VCALENDAR
PRODID:-//eluceo/ical//2.0/EN
VERSION:2.0
CALSCALE:GREGORIAN
BEGIN:VEVENT
UID:f509c2658c343697b45a7ee0618eb7c2
DTSTAMP:20260421T224955Z
SUMMARY:Reparieren statt wegwerfen: Der 8.Schweizer Reparaturtag in Luzern
DESCRIPTION:Verschiedene lokale Gruppierungen engagieren sich tatkräftig\,
 \num den Abfallberg zu verkleinern\, Kosten zu sparen und vermeintlich\nnu
 tzlosen Gegenständen neues Leben einzuhauchen.\n
DTSTART:20231021T080000Z
DTEND:20231021T140000Z
LOCATION:Löwenplatz 11\, 6004 Luzern
GEO:47.056901;8.311345
X-APPLE-STRUCTURED-LOCATION;VALUE=URI;X-ADDRESS=Löwenplatz 11\, 6004 Luzer
 n;X-APPLE-RADIUS=49;X-TITLE=:geo:47.056901,8.311345
END:VEVENT
END:VCALENDAR
