BEGIN:VCALENDAR
PRODID:-//eluceo/ical//2.0/EN
VERSION:2.0
CALSCALE:GREGORIAN
BEGIN:VEVENT
UID:a6742efdd7e0907ba761747ae4e07bab
DTSTAMP:20260421T210002Z
SUMMARY:Führungen: Bourbaki Panorama aus Energiesicht
DESCRIPTION:Zum Europäischen Tag des Denkmals spannen das Bourbaki\nPanora
 ma und die Umweltberatung zusammen. Das monumentale Rundbild\ndient als Di
 skussionsfläche für zahlreiche Energie- und Klimafragen.\n
DTSTART:20230909T100000Z
DTEND:20230909T110000Z
LOCATION:Löwenplatz 11\, 6004 Luzern
GEO:47.056905;8.311345
X-APPLE-STRUCTURED-LOCATION;VALUE=URI;X-ADDRESS=Löwenplatz 11\, 6004 Luzer
 n;X-APPLE-RADIUS=49;X-TITLE=:geo:47.056905,8.311345
END:VEVENT
END:VCALENDAR
