BEGIN:VCALENDAR
PRODID:-//eluceo/ical//2.0/EN
VERSION:2.0
CALSCALE:GREGORIAN
BEGIN:VEVENT
UID:4157b208a4e1523865b2b1c656c4d9e9
DTSTAMP:20260421T224216Z
SUMMARY:Baustellenführung See-Energie Luzern Zentrum
DESCRIPTION:See-Energie spielt bei der Versorgung der Stadt Luzern mit\nern
 euerbarer Energie eine wichtige Rolle. Was ist See-Energie\, und wie\nfunk
 tioniert sie? Wir besichtigen eine Baustelle und zeigen\nWissenswertes zur
  klimafreundlichen Energie auf.\n
DTSTART:20230829T143000Z
DTEND:20230829T153000Z
LOCATION:Werkhofstrasse 18\, 6005 Luzern
GEO:47.044777;8.314698
X-APPLE-STRUCTURED-LOCATION;VALUE=URI;X-ADDRESS=Werkhofstrasse 18\, 6005 Lu
 zern;X-APPLE-RADIUS=49;X-TITLE=:geo:47.044777,8.314698
END:VEVENT
END:VCALENDAR
