BEGIN:VCALENDAR
PRODID:-//eluceo/ical//2.0/EN
VERSION:2.0
CALSCALE:GREGORIAN
BEGIN:VEVENT
UID:97cd6631191ee43e433d4dcac1082c86
DTSTAMP:20260421T224308Z
SUMMARY:Roadshow «Klima und Energie»
DESCRIPTION:Die Roadshow «Klima und Energie» des Kantons Luzern und des\n
 Verkehrshauses der Schweiz geht auf Tournee. Die interaktive\nAusstellung 
 ist spielerisch und für Jung und Alt geeignet.\n
DTSTART:20230902T080000Z
DTEND:20230902T150000Z
LOCATION:Bahnhofplatz\, 6003 Luzern
GEO:47.050772;8.310218
X-APPLE-STRUCTURED-LOCATION;VALUE=URI;X-ADDRESS=Bahnhofplatz\, 6003 Luzern;
 X-APPLE-RADIUS=49;X-TITLE=:geo:47.050772,8.310218
END:VEVENT
END:VCALENDAR
