BEGIN:VCALENDAR
PRODID:-//eluceo/ical//2.0/EN
VERSION:2.0
CALSCALE:GREGORIAN
BEGIN:VEVENT
UID:64f7c7d8d1fe30f7fc83f02747a59efd
DTSTAMP:20260421T205931Z
SUMMARY:Vielfältige\, essbare Landschaft im Unter-Grundhof\, Emmen
DESCRIPTION:In der Umgebung des Unter-Grundhofs Emmen finden Erholung\,\nna
 turbezogene Freizeitbeschäftigung und Nahrungsmittelproduktion\nnebeneina
 nder statt. Auch Permakultur-Elemente wurden hier\nverwirklicht\, etwa der
  «Nichts-tun-Wurmkompost».\n
DTSTART:20230818T161500Z
DTEND:20230818T180000Z
LOCATION:
GEO:47.081042;8.307708
X-APPLE-STRUCTURED-LOCATION;VALUE=URI;X-ADDRESS=;X-APPLE-RADIUS=49;X-TITLE=
 :geo:47.081042,8.307708
END:VEVENT
END:VCALENDAR
