BEGIN:VCALENDAR
PRODID:-//eluceo/ical//2.0/EN
VERSION:2.0
CALSCALE:GREGORIAN
BEGIN:VEVENT
UID:bd96542eda7d7ac93b7a7ea281be7bb5
DTSTAMP:20260421T210601Z
SUMMARY:Film im Open-Air-Kino: «Die Eiche\, mein Zuhause»
DESCRIPTION:Es hat keine Gratis-Tickets mehr! Die Naturdokumentation erzäh
 lt die\nGeschichte einer 210 Jahre alten Eiche und ihrer aussergewöhnlich
 en\nBewohnern. Der atemberaubende Naturfilm ist sowohl eine Ode an die\nNa
 tur als auch eine filmische Meisterleistung.\n
DTSTART:20230809T190000Z
DTEND:20230809T203000Z
LOCATION:Alpenquai\, 6005 Luzern
GEO:47.043194;8.323908
X-APPLE-STRUCTURED-LOCATION;VALUE=URI;X-ADDRESS=Alpenquai\, 6005 Luzern;X-A
 PPLE-RADIUS=49;X-TITLE=:geo:47.043194,8.323908
END:VEVENT
END:VCALENDAR
