BEGIN:VCALENDAR
PRODID:-//eluceo/ical//2.0/EN
VERSION:2.0
CALSCALE:GREGORIAN
BEGIN:VEVENT
UID:9c7e2a8c9a847957b4a4b633bc2aa0bd
DTSTAMP:20260421T223612Z
SUMMARY:O SOLE BIO Zentralschweizer Biomarkt
DESCRIPTION:Die Zentralschweizer Biobauernfamilien laden Sie herzlich dazu 
 ein\, am\nSamstag\, 9. September 2023 von 08.00 bis 18.00 Uhr in Zug am Se
 e die\nregionale Bio-Vielfalt zu erleben und geniessen. Weitere Informatio
 nen\nfinden Sie unter www.osolebio.ch\n
DTSTART:20230909T060000Z
DTEND:20230909T160000Z
LOCATION:am See\, 6300 Zug
GEO:47.170679;8.512221
X-APPLE-STRUCTURED-LOCATION;VALUE=URI;X-ADDRESS=am See\, 6300 Zug;X-APPLE-R
 ADIUS=49;X-TITLE=:geo:47.170679,8.512221
END:VEVENT
END:VCALENDAR
