BEGIN:VCALENDAR
PRODID:-//eluceo/ical//2.0/EN
VERSION:2.0
CALSCALE:GREGORIAN
BEGIN:VEVENT
UID:bd2f14a424badedee95ff13c22cccd2d
DTSTAMP:20260421T205751Z
SUMMARY:Mitsing-Event «Sing für Vögel»
DESCRIPTION:Das Lucerne Festival lädt die Luzerner Bevölkerung am Samstag
 \, 3.\nJuni um 14 Uhr zum Mitsing-Event «Sing für Vögel» vor dem KKL\n
 Luzern ein. Alle Sänger:innen können mitmachen: Jung und Alt\,\nFamilien
  und Freunde sowie Laien und Profis. Gesungen wird für die\nLuzerner Voge
 lwelt.\n
DTSTART:20230603T120000Z
DTEND:20230603T130000Z
LOCATION:Europaplatz\, 6000 Luzern
END:VEVENT
END:VCALENDAR
