BEGIN:VCALENDAR
PRODID:-//eluceo/ical//2.0/EN
VERSION:2.0
CALSCALE:GREGORIAN
BEGIN:VEVENT
UID:b1b24de3421185891f8d4bef14f4b79b
DTSTAMP:20260424T043408Z
SUMMARY:Kräuterspaziergang Luzern
DESCRIPTION:Viele Pflanzen\, die direkt vor unseren Haustüren wachsen\, he
 lfen uns\ndas Jahr hindurch\, auch mit einem kleinen Budget oder in Notzei
 ten\ngesund zu bleiben.\n
DTSTART:20230510T120000Z
DTEND:20230510T163000Z
END:VEVENT
END:VCALENDAR
