BEGIN:VCALENDAR
PRODID:-//eluceo/ical//2.0/EN
VERSION:2.0
CALSCALE:GREGORIAN
BEGIN:VEVENT
UID:0e66007ec1eff830c52ae852b91d19bf
DTSTAMP:20260421T210718Z
SUMMARY:Blumenwiesen\, Bäume und Unkraut: Rundgang naturnahe Gärten in Ob
 erkirch
DESCRIPTION:Die Natur\,- Umwelt- und Energiekommission Oberkirch (NUEK) lä
 dt alle\nInteressierten zu einem Rundgang in der Gemeinde Oberkirch ein\, 
 bei\ndem unter kundiger Führung verschiedenen private und öffentliche\nG
 ärten und Anlagen besichtigt werden können.\n
DTSTART:20230603T070000Z
DTEND:20230603T090000Z
LOCATION:Luzernstrasse 58\, 6208 Oberkirch
GEO:47.158296;8.114464
X-APPLE-STRUCTURED-LOCATION;VALUE=URI;X-ADDRESS=Luzernstrasse 58\, 6208 Obe
 rkirch;X-APPLE-RADIUS=49;X-TITLE=:geo:47.158296,8.114464
END:VEVENT
END:VCALENDAR
