BEGIN:VCALENDAR
PRODID:-//eluceo/ical//2.0/EN
VERSION:2.0
CALSCALE:GREGORIAN
BEGIN:VEVENT
UID:b99bdb2758c5fac7c1c30181ef7713d8
DTSTAMP:20260425T040239Z
SUMMARY:Wildstaudenmarkt Oberkirch
DESCRIPTION:Die Natur-\, Umwelt- und Energiekommission (NUEK) organisiert e
 inen\nWildstaudenmarkt mit Pflanzen aus einheimischer Aufzucht mit\nregion
 alen Samen.\n
DTSTART:20230513T070000Z
DTEND:20230513T100000Z
LOCATION:Luzernstrasse 58 \, 6208 Oberkirch
GEO:47.158485;8.113966
X-APPLE-STRUCTURED-LOCATION;VALUE=URI;X-ADDRESS=Luzernstrasse 58 \, 6208 Ob
 erkirch;X-APPLE-RADIUS=49;X-TITLE=:geo:47.158485,8.113966
END:VEVENT
END:VCALENDAR
