BEGIN:VCALENDAR
PRODID:-//eluceo/ical//2.0/EN
VERSION:2.0
CALSCALE:GREGORIAN
BEGIN:VEVENT
UID:c4716e5ef032ec0f91c9e75dd0d78f01
DTSTAMP:20260421T224639Z
SUMMARY:AUSGEBUCHT: Pilzexkursion
DESCRIPTION:Welche Vielfalt an Pilzen gibt es im Meggerwald? Welche Bäume 
 sind\nPartner essbarer Pilze? An der Pilzexkursion erfahren alle - ob jung
 \noder alt - Spannendes zu den Pilzen des Meggerwalds.\n
DTSTART:20230930T064500Z
DTEND:20230930T100000Z
END:VEVENT
END:VCALENDAR
