BEGIN:VCALENDAR
PRODID:-//eluceo/ical//2.0/EN
VERSION:2.0
CALSCALE:GREGORIAN
BEGIN:VEVENT
UID:4db1239b253f2283ce83c65223988502
DTSTAMP:20260421T205950Z
SUMMARY:Infotag «Natur im Meggerwald»
DESCRIPTION:Wieso ist das Gebiet des Meggerwaldes so artenreich? Welche Tie
 r- und\nPflanzenarten sind typisch für das Waldgebiet zwischen Luzern und
 \nKüssnacht? Wo befinden sich die Schutzgebiete? Wer pflegt die\nartenrei
 chen Riedwiesen?\n
DTSTART:20230820T080000Z
DTEND:20230820T140000Z
LOCATION:Wagemoos\, 6044 Udligenswil
GEO:47.073817;8.393644
X-APPLE-STRUCTURED-LOCATION;VALUE=URI;X-ADDRESS=Wagemoos\, 6044 Udligenswil
 ;X-APPLE-RADIUS=49;X-TITLE=:geo:47.073817,8.393644
END:VEVENT
END:VCALENDAR
