BEGIN:VCALENDAR
PRODID:-//eluceo/ical//2.0/EN
VERSION:2.0
CALSCALE:GREGORIAN
BEGIN:VEVENT
UID:a845d392a311d7754312281285640d7e
DTSTAMP:20260421T205756Z
SUMMARY:Glühwürmchen-Exkursion
DESCRIPTION:Kommen Sie mit auf eine Exkursion der besonderen Art! Wir wande
 rn zu\nden Lieblingsplätzen der Glühwürmchen im Meggerwald und versuche
 n\nsie mit Fallen anzulocken. Dabei erzählt uns ein Experte viel\nSpannen
 des über diese geheimnisvollen Tierchen.\n
DTSTART:20230714T193000Z
DTEND:20230714T214500Z
END:VEVENT
END:VCALENDAR
