BEGIN:VCALENDAR
PRODID:-//eluceo/ical//2.0/EN
VERSION:2.0
CALSCALE:GREGORIAN
BEGIN:VEVENT
UID:baaa1adac6801cc9aa06a5192a72361e
DTSTAMP:20260421T205148Z
SUMMARY:Arbeitseinsatz Schlittenried
DESCRIPTION:Auf dem Moränenwall im Schlittenried breitet sich der Adlerfar
 n mehr\nund mehr aus. Wir reissen die austreibenden Pflanzen aus und schaf
 fen\nso Platz für selten gewordene Orchideen und andere Moorpflanzen.\n
DTSTART:20230624T070000Z
DTEND:20230624T100000Z
LOCATION:
GEO:47.074345;8.402739
X-APPLE-STRUCTURED-LOCATION;VALUE=URI;X-ADDRESS=;X-APPLE-RADIUS=49;X-TITLE=
 :geo:47.074345,8.402739
END:VEVENT
END:VCALENDAR
