BEGIN:VCALENDAR
PRODID:-//eluceo/ical//2.0/EN
VERSION:2.0
CALSCALE:GREGORIAN
BEGIN:VEVENT
UID:d4f506d1149ef7101ca3c629ed0d7e2b
DTSTAMP:20260421T205357Z
SUMMARY:Arbeitseinsatz Wagenmoos & Weiherried
DESCRIPTION:Wir setzen die Arbeit der letzten Jahre fort und pflegen die\na
 rtenreichen Lebensräume im Wagenmoos und Weiherried.\n
DTSTART:20230603T070000Z
DTEND:20230603T100000Z
LOCATION:
GEO:47.073527;8.394263
X-APPLE-STRUCTURED-LOCATION;VALUE=URI;X-ADDRESS=;X-APPLE-RADIUS=49;X-TITLE=
 :geo:47.073527,8.394263
END:VEVENT
END:VCALENDAR
