BEGIN:VCALENDAR
PRODID:-//eluceo/ical//2.0/EN
VERSION:2.0
CALSCALE:GREGORIAN
BEGIN:VEVENT
UID:11b283b2576c0687525fefad41f798ad
DTSTAMP:20260421T223530Z
SUMMARY:Zerowaste Tour durch die Stadt
DESCRIPTION:Nicht nur Lebensmittel können in der Stadt Luzern ohne Verpack
 ung\neingekauft werden. Immer mehr Geschäfte verfolgen den Zero Waste\nAn
 satz\n
DTSTART:20230831T153000Z
DTEND:20230831T170000Z
LOCATION:Winkelriedstrasse 58\, 6003 Luzern
GEO:47.046264;8.307272
X-APPLE-STRUCTURED-LOCATION;VALUE=URI;X-ADDRESS=Winkelriedstrasse 58\, 6003
  Luzern;X-APPLE-RADIUS=49;X-TITLE=:geo:47.046264,8.307272
END:VEVENT
END:VCALENDAR
