BEGIN:VCALENDAR
PRODID:-//eluceo/ical//2.0/EN
VERSION:2.0
CALSCALE:GREGORIAN
BEGIN:VEVENT
UID:85b8db4957fe80a18c62be2c557a9fd2
DTSTAMP:20260424T044028Z
SUMMARY:Zero Waste Workshop Arbeit\, Ferien und Geschenke
DESCRIPTION:In diesem interaktiven Zero Waste Workshop sprechen wir über w
 eniger\nEnergieverschwendung\, Mobilitätsalternativen für die Ferien und
 \nweniger Verpackungsmüll an der nächsten Geburtstagsfeier\n
DTSTART:20230525T163000Z
DTEND:20230525T181500Z
LOCATION:Horwerstrasse 5a\, 6010 Kriens
END:VEVENT
END:VCALENDAR
