BEGIN:VCALENDAR
PRODID:-//eluceo/ical//2.0/EN
VERSION:2.0
CALSCALE:GREGORIAN
BEGIN:VEVENT
UID:1468be34d65b7ef0a47531cf28dcc390
DTSTAMP:20260421T192012Z
SUMMARY:"Mindestens haltbar bis ..." kein Grund zum wegwerfen
DESCRIPTION:In der Schweiz landen im Jahr pro Person über 50 Kilogramm\nLe
 bensmittel im Abfallsack. In der Sonderschau «Energie und Klima»\nerfahr
 en Sie\, wie das vermieden werden kann.\n
DTSTART:20230428T080000Z
DTEND:20230507T160000Z
LOCATION:Horwerstrasse 87\, 6005 Luzern
END:VEVENT
END:VCALENDAR
