BEGIN:VCALENDAR
PRODID:-//eluceo/ical//2.0/EN
VERSION:2.0
CALSCALE:GREGORIAN
BEGIN:VEVENT
UID:4dd05db3a642710700a98006549f916f
DTSTAMP:20260424T044251Z
SUMMARY:Natur vor der Haustür. Zoologisch-botanischer Abendspaziergang
DESCRIPTION:Auch im Stadtgebiet gibt es Orte\, wo die Artenvielfalt beträc
 htlich\nist. Wir unternehmen einen gemeinsamen Abendspaziergang und widmen
  uns\nder Natur vor unserer Haustür. Im Fokus stehen Insekten und\nBlüte
 npflanzen.\n
DTSTART:20230516T150000Z
DTEND:20230516T170000Z
LOCATION:Kasernenplatz 6\, 6003 Luzern
GEO:47.051662;8.301044
X-APPLE-STRUCTURED-LOCATION;VALUE=URI;X-ADDRESS=Kasernenplatz 6\, 6003 Luze
 rn;X-APPLE-RADIUS=49;X-TITLE=:geo:47.051662,8.301044
END:VEVENT
END:VCALENDAR
