BEGIN:VCALENDAR
PRODID:-//eluceo/ical//2.0/EN
VERSION:2.0
CALSCALE:GREGORIAN
BEGIN:VEVENT
UID:5023622bbcc343b13417b4ba23bd5d19
DTSTAMP:20260421T191202Z
SUMMARY:Sustainable University Day 2023
DESCRIPTION:Studierende\, Mitarbeitende und weitere Interessierte kommen am
 \nSustainable University Day vom 28.4. in Luzern zusammen\, um\nNachhaltig
 keit an Schweizer Hochschulen weiter zu bringen. Es erwartet\nsie ein inte
 raktives und facettenreiches Programm.\n
DTSTART:20230428T073000Z
DTEND:20230428T143000Z
LOCATION:Frohburgstrasse 3\, 6002 Luzern
GEO:47.049441;8.312542
X-APPLE-STRUCTURED-LOCATION;VALUE=URI;X-ADDRESS=Frohburgstrasse 3\, 6002 Lu
 zern;X-APPLE-RADIUS=49;X-TITLE=:geo:47.049441,8.312542
END:VEVENT
END:VCALENDAR
