BEGIN:VCALENDAR
PRODID:-//eluceo/ical//2.0/EN
VERSION:2.0
CALSCALE:GREGORIAN
BEGIN:VEVENT
UID:2885c394a18153ab5ee694bd52d19721
DTSTAMP:20260421T173722Z
SUMMARY:Besuch der Sternenwarte Glaubenberg - Achtung Programmänderung
DESCRIPTION:Wegen Schlechtwetterprognose und Aussicht auf Schnee begeben wi
 r uns\nauf einen virtuellen Flug in den Weltraum.\nEduard von Bergen vom V
 erein AOAsky nimmt uns mit auf einen virtuellen\nWeltraumflug und präsent
 iert Bilder\, die von der Sternwarte\nGlaubenberg aus gemacht wurden.\n
DTSTART:20230327T180000Z
DTEND:20230327T200000Z
LOCATION:Kasernenplatz 6\, 6003 Luzern
GEO:47.051683;8.301060
X-APPLE-STRUCTURED-LOCATION;VALUE=URI;X-ADDRESS=Kasernenplatz 6\, 6003 Luze
 rn;X-APPLE-RADIUS=49;X-TITLE=:geo:47.051683,8.301060
END:VEVENT
END:VCALENDAR
