BEGIN:VCALENDAR
PRODID:-//eluceo/ical//2.0/EN
VERSION:2.0
CALSCALE:GREGORIAN
BEGIN:VEVENT
UID:e6d6a564f600c66be51dbdb5bd9dd69a
DTSTAMP:20260421T193238Z
SUMMARY:Naturstreifzug. Den Eulen auf der Spur
DESCRIPTION:Während der Balz der Eulen begeben wir uns ins Wauwilermoos.\n
 Wir lernen ihre Lebensweise kennen\, machen uns auf die Suche nach\nihren 
 Spuren und lauschen in die Nacht hinein\n
DTSTART:20230317T163000Z
DTEND:20230317T193000Z
LOCATION:Kasernenplatz 6\, 6003 Luzern
GEO:47.051624;8.300870
X-APPLE-STRUCTURED-LOCATION;VALUE=URI;X-ADDRESS=Kasernenplatz 6\, 6003 Luze
 rn;X-APPLE-RADIUS=49;X-TITLE=:geo:47.051624,8.300870
END:VEVENT
END:VCALENDAR
