BEGIN:VCALENDAR
PRODID:-//eluceo/ical//2.0/EN
VERSION:2.0
CALSCALE:GREGORIAN
BEGIN:VEVENT
UID:adb6e07cdfa3726c574c847bbac7a7a9
DTSTAMP:20260421T191316Z
SUMMARY:Pflanzenbörse im Klostergarten Wesemlin
DESCRIPTION:An der Pflanzenbörse vom 06.05.23 können Pflanzen getauscht o
 der\ngegen eine Spende mitgenommen werden. Im besonderen Fokus steht\ndies
 mal die Bepflanzung von Balkonen mit Wildpflanzen.\n
DTSTART:20230506T120000Z
DTEND:20230506T140000Z
LOCATION:Wesemlinstrasse 42\, 6006 Luzern
GEO:47.061680;8.313277
X-APPLE-STRUCTURED-LOCATION;VALUE=URI;X-ADDRESS=Wesemlinstrasse 42\, 6006 L
 uzern;X-APPLE-RADIUS=49;X-TITLE=:geo:47.061680,8.313277
END:VEVENT
END:VCALENDAR
