BEGIN:VCALENDAR
PRODID:-//eluceo/ical//2.0/EN
VERSION:2.0
CALSCALE:GREGORIAN
BEGIN:VEVENT
UID:6fa0e8c5edbeaf4dd8b7be330b51c081
DTSTAMP:20260420T150612Z
SUMMARY:Pflanzenbörse
DESCRIPTION:„Man muss den Geist der Menschen zum Blühen bringen\, damit 
 sie\nselbst den Wunsch verspüren etwas zu pflanzen.“\n
DTSTART:20230504T120000Z
DTEND:20230504T140000Z
END:VEVENT
END:VCALENDAR
