BEGIN:VCALENDAR
PRODID:-//eluceo/ical//2.0/EN
VERSION:2.0
CALSCALE:GREGORIAN
BEGIN:VEVENT
UID:02fd15c5ffbd2b6d8073516b2126bf93
DTSTAMP:20260421T192012Z
SUMMARY:Infoanlass: Blumenwiesen für mehr Artenvielfalt
DESCRIPTION:Erfahren Sie\, wo in der Gemeinde Ebikon neue Blumenwiesen ents
 tehen.\nProfitieren Sie zudem vom Fachwissen von Roger Hodel und erfahren 
 Sie\,\nwie im eigenen Garten erfolgreich eine kleine Wiese dauerhaft zum\n
 Blühen gebracht werden kann.\n
DTSTART:20230302T180000Z
DTEND:20230302T193000Z
LOCATION:Zentralstrasse 13\, 6030 Ebikon
GEO:47.082646;8.342363
X-APPLE-STRUCTURED-LOCATION;VALUE=URI;X-ADDRESS=Zentralstrasse 13\, 6030 Eb
 ikon;X-APPLE-RADIUS=49;X-TITLE=:geo:47.082646,8.342363
END:VEVENT
END:VCALENDAR
