BEGIN:VCALENDAR
PRODID:-//eluceo/ical//2.0/EN
VERSION:2.0
CALSCALE:GREGORIAN
BEGIN:VEVENT
UID:3f9661662158fe74153251aabd5995b4
DTSTAMP:20260421T191504Z
SUMMARY:Velobörse Pro Velo Luzern
DESCRIPTION:Am Samstag\, 18. März 2023 findet die Velobörse am Nationalqu
 ai in\nLuzern statt. Nicht mehr benötigte Velos\, Kindervelos oder Anhän
 ger\nkönnen von 8.30 bis 11.30 abgegeben werden. Pro Person dürfen\nmaxi
 mal 3 Velos zum Verkauf angeboten werden.\n
DTSTART:20230318T120000Z
DTEND:20230318T150000Z
LOCATION:
GEO:47.050168;8.309307
X-APPLE-STRUCTURED-LOCATION;VALUE=URI;X-ADDRESS=;X-APPLE-RADIUS=49;X-TITLE=
 :geo:47.050168,8.309307
END:VEVENT
END:VCALENDAR
