BEGIN:VCALENDAR
PRODID:-//eluceo/ical//2.0/EN
VERSION:2.0
CALSCALE:GREGORIAN
BEGIN:VEVENT
UID:e15b99697b59a64ac0d91297aea6aec6
DTSTAMP:20260422T001838Z
SUMMARY:Moosputzete im Uffiker-Buchser Moos
DESCRIPTION:Pflegeeinsätze sind für Gross und Klein ein Erlebnis. An der\
 njährlich durchgeführten Moosputzete packen jeweils mehrere Dutzend\nPer
 sonen engagiert an.\n
DTSTART:20231111T064500Z
DTEND:20231111T130000Z
END:VEVENT
END:VCALENDAR
