BEGIN:VCALENDAR
PRODID:-//eluceo/ical//2.0/EN
VERSION:2.0
CALSCALE:GREGORIAN
BEGIN:VEVENT
UID:93a0cd14827b1fcec1c2fda5e8b43190
DTSTAMP:20260422T001902Z
SUMMARY:Eisvogel & Co. am oberen Sempachersee
DESCRIPTION:Am Sempachersee ist der Eisvogel nach der Brutzeit regelmässig
  zu\nbeobachten. Wer seinen hohen Ruf kennt\, kann sich rechtzeitig auf de
 n\n«fliegenden Edelstein» einstellen.\n
DTSTART:20231105T080000Z
DTEND:20231105T110000Z
END:VEVENT
END:VCALENDAR
