BEGIN:VCALENDAR
PRODID:-//eluceo/ical//2.0/EN
VERSION:2.0
CALSCALE:GREGORIAN
BEGIN:VEVENT
UID:733bfacc779d0b665b0c9c9ae59d724a
DTSTAMP:20260422T001837Z
SUMMARY:4. Zentralschweizer Naturtagung
DESCRIPTION:Welche Projekte im Naturschutz waren erfolgreich und warum? Wie
  kann\nder Verlust der Biodiversität gestoppt werden? An diesem Nachmitta
 g\nkönnen Sie Spannendes aus dem Natur- und Landschaftsschutz in der\nZen
 tralschweiz erfahren.\n
DTSTART:20231028T110000Z
DTEND:20231028T150000Z
END:VEVENT
END:VCALENDAR
