BEGIN:VCALENDAR
PRODID:-//eluceo/ical//2.0/EN
VERSION:2.0
CALSCALE:GREGORIAN
BEGIN:VEVENT
UID:2a32ad3f9f198a99b165f5a4d0ad63d7
DTSTAMP:20260421T192013Z
SUMMARY:Emmensprung: von der Quelle bis zum Fluss
DESCRIPTION:Entdecken Sie mit uns die imposante Quelle der Kleinen Emme!\n
DTSTART:20231021T071000Z
DTEND:20231021T133000Z
END:VEVENT
END:VCALENDAR
