BEGIN:VCALENDAR
PRODID:-//eluceo/ical//2.0/EN
VERSION:2.0
CALSCALE:GREGORIAN
BEGIN:VEVENT
UID:96a20e47f76baa0e80dce885ca1594b7
DTSTAMP:20260420T220222Z
SUMMARY:Naturnahe Pflege im Naturlehrgebiet
DESCRIPTION:Um den Charakter und die Vielfalt des Naturlehrgebiets zu bewah
 ren\,\nsind Pflegeeingriffe unumgänglich. Durch die langjährige Pflege\n
 entstehen wahre Refugien für Tiere und Pflanzen oder bleiben dadurch\nerh
 alten!\n
DTSTART:20231021T070000Z
DTEND:20231021T133000Z
END:VEVENT
END:VCALENDAR
