BEGIN:VCALENDAR
PRODID:-//eluceo/ical//2.0/EN
VERSION:2.0
CALSCALE:GREGORIAN
BEGIN:VEVENT
UID:9068665b0ab8a56217dd1a28b0dd504f
DTSTAMP:20260421T224841Z
SUMMARY:EuroBirdwatch 2023 – Vogelzug auf dem Sonnenberg
DESCRIPTION:Erleben Sie die Faszination Vogelzug hautnah auf dem Krienser\n
 Sonnenberg! Hier richten KriensNatur und die Ornithologische\nGesellschaft
  der Stadt Luzern (OGL) einen Beobachtungs- und\nInformationsstand ein.\n
DTSTART:20231008T060000Z
DTEND:20231008T150000Z
END:VEVENT
END:VCALENDAR
