BEGIN:VCALENDAR
PRODID:-//eluceo/ical//2.0/EN
VERSION:2.0
CALSCALE:GREGORIAN
BEGIN:VEVENT
UID:0399a61112d9be5974783715ca5d5f6c
DTSTAMP:20260421T224638Z
SUMMARY:EuroBirdwatch 2023 – Vogelzug im Entlebuch
DESCRIPTION:Erleben Sie die Faszination Vogelzug hautnah in der Moorlandsch
 aft im\nEntlebuch! Im Mettilimoos oberhalb Entlebuch richten NaturNetz\nSc
 hüpfheim und BirdLife Luzern einen Beobachtungs- und\nInformationsstand e
 in.\n
DTSTART:20231008T060000Z
DTEND:20231008T150000Z
END:VEVENT
END:VCALENDAR
