BEGIN:VCALENDAR
PRODID:-//eluceo/ical//2.0/EN
VERSION:2.0
CALSCALE:GREGORIAN
BEGIN:VEVENT
UID:3342a71596bea78a707d9bb486141456
DTSTAMP:20260421T224638Z
SUMMARY:EuroBirdwatch 2023 – Vogelzug auf dem Ruswilerberg
DESCRIPTION:Erleben Sie die Faszination Vogelzug hautnah auf dem Ruswilerbe
 rg!\nHier richtet der Naturschutzverein Ruswil einen Beobachtungs- und\nIn
 formationsstand ein.\n
DTSTART:20231008T060000Z
DTEND:20231008T130000Z
END:VEVENT
END:VCALENDAR
