BEGIN:VCALENDAR
PRODID:-//eluceo/ical//2.0/EN
VERSION:2.0
CALSCALE:GREGORIAN
BEGIN:VEVENT
UID:897f459342b49edc7c3db933a4c1f733
DTSTAMP:20260421T225024Z
SUMMARY:Begegnungen mit der Linde
DESCRIPTION:Das Hauptaugenmerk auf diesem Spaziergang gilt den Linden\, ste
 llen sie\ndoch auf dem Krienser Sonnenberg ein markantes\, von Menschen\ng
 epflanztes Landschaftselement dar.\n
DTSTART:20230924T073500Z
DTEND:20230924T103000Z
END:VEVENT
END:VCALENDAR
