BEGIN:VCALENDAR
PRODID:-//eluceo/ical//2.0/EN
VERSION:2.0
CALSCALE:GREGORIAN
BEGIN:VEVENT
UID:47bbe29ea1524a830e267ed12359fa3c
DTSTAMP:20260421T224308Z
SUMMARY:Edelkrebse in Kriens
DESCRIPTION:Wussten Sie\, dass in Krienser Gewässern Krebse leben? Sie sin
 d\nheimisch im Steinibach\, Schlundbach\, Schlimbach\, Schlossbach sowie i
 m\nBlattigweiher und im anschliessenden Gewerbekanal.\n
DTSTART:20230901T193000Z
DTEND:20230901T210000Z
END:VEVENT
END:VCALENDAR
