BEGIN:VCALENDAR
PRODID:-//eluceo/ical//2.0/EN
VERSION:2.0
CALSCALE:GREGORIAN
BEGIN:VEVENT
UID:dbb3169f7e4d8f1e3f02d96e94b83de7
DTSTAMP:20260421T224205Z
SUMMARY:Bird Race 2023
DESCRIPTION:Das Bird Race ist ein Sponsorenlauf: Bilden Sie ein Team aus 3
 –4\nPersonen und machen Sie sich auf die Suche nach möglichst vielen\nV
 ogelarten.\n
DTSTART:20230901T190000Z
DTEND:20230902T190000Z
END:VEVENT
END:VCALENDAR
