BEGIN:VCALENDAR
PRODID:-//eluceo/ical//2.0/EN
VERSION:2.0
CALSCALE:GREGORIAN
BEGIN:VEVENT
UID:869c42f433999cc0d84547c6182ecd15
DTSTAMP:20260421T205957Z
SUMMARY:Bäume und Sträucher erkennen
DESCRIPTION:In der Schweiz kommen mehrere hundert Gehölzarten vor.\n
DTSTART;VALUE=DATE:20230826
END:VEVENT
END:VCALENDAR
