BEGIN:VCALENDAR
PRODID:-//eluceo/ical//2.0/EN
VERSION:2.0
CALSCALE:GREGORIAN
BEGIN:VEVENT
UID:0376c2d5fc8f16c16d11a07f08249ef6
DTSTAMP:20260421T205951Z
SUMMARY:Alpensegler – faszinierende Luftakrobaten
DESCRIPTION:Siedlungen sind für viele Vögel «Felslandschaften». So brü
 tet\nauch der eigentliche Felsenbrüter Alpensegler heute vor allem in\nGe
 bäuden. Sein Lebensraum ist der Luftraum!\n
DTSTART:20230825T173000Z
DTEND:20230825T190000Z
END:VEVENT
END:VCALENDAR
