BEGIN:VCALENDAR
PRODID:-//eluceo/ical//2.0/EN
VERSION:2.0
CALSCALE:GREGORIAN
BEGIN:VEVENT
UID:d9d1b071fa00c7f2ea051b11548609f3
DTSTAMP:20260421T205957Z
SUMMARY:Faszinierende Welt der Schmetterlinge
DESCRIPTION:Der rund zweistündige Spaziergang führt uns durch artenreiche
 \nFeuchtwiesen im Krienser Hochwald\, wo wir die dort lebenden Tagfalter\,
 \ninsbesondere Scheckenfalter und Perlmuttfalter\, kennenlernen und\nbewun
 dern können.\n
DTSTART:20230709T080000Z
DTEND:20230709T100000Z
END:VEVENT
END:VCALENDAR
