BEGIN:VCALENDAR
PRODID:-//eluceo/ical//2.0/EN
VERSION:2.0
CALSCALE:GREGORIAN
BEGIN:VEVENT
UID:8cf202346bc01b2a678cccffe378cb72
DTSTAMP:20260421T201417Z
SUMMARY:Von der Raupe zum Schmetterling
DESCRIPTION:Das Naturlehrgebiet weist verschiedene naturnahe Lebensräume a
 uf und\nbeherbergt daher etliche Tagfalterarten\, die im angrenzend intens
 iver\ngenutzten Kulturland nicht mehr zu finden sind.\n
DTSTART:20230705T120000Z
DTEND:20230705T140000Z
END:VEVENT
END:VCALENDAR
