BEGIN:VCALENDAR
PRODID:-//eluceo/ical//2.0/EN
VERSION:2.0
CALSCALE:GREGORIAN
BEGIN:VEVENT
UID:9b18edb66af3dc376b7c247b8561675e
DTSTAMP:20260421T203518Z
SUMMARY:Orchideen im Gebiet Breitried – Hohrüti
DESCRIPTION:Am Pilatushang finden sich grössere Feuchtgebiete\, die zu den
 \nökologischen Perlen auf dem Horwer Gemeindegebiet gehören. An diesem\n
 Nachmittag erkunden wir die Pflanzenwelt der Feucht- und Streuewiesen\nim 
 Gebiet Breitried – Cholhütten – Hohrüti.\n
DTSTART:20230702T110000Z
DTEND:20230702T150000Z
END:VEVENT
END:VCALENDAR
