BEGIN:VCALENDAR
PRODID:-//eluceo/ical//2.0/EN
VERSION:2.0
CALSCALE:GREGORIAN
BEGIN:VEVENT
UID:f060dd54ad25104882c8c8433007b279
DTSTAMP:20260421T205316Z
SUMMARY:Bergvögel-Exkursion am Pilatus
DESCRIPTION:Mitte Juni ist der Bergfrühling voll im Gange. Entsprechend ak
 tiv\nsind auch die Bergvögel und wir können viele für diese Gegend und\
 nHöhenstufe typische Arten erwarten\, wie Steinschmätzer\, Steinrötel\n
 oder sogar einen Mauerläufer.\n
DTSTART:20230625T063000Z
DTEND:20230625T140000Z
END:VEVENT
END:VCALENDAR
