BEGIN:VCALENDAR
PRODID:-//eluceo/ical//2.0/EN
VERSION:2.0
CALSCALE:GREGORIAN
BEGIN:VEVENT
UID:9622dbdc0de1031f249b05a393bf1892
DTSTAMP:20260420T194823Z
SUMMARY:Holzbewohnende Käfer
DESCRIPTION:«Lebendiges Totholz» ist für viele eine unbekannte Welt. Nac
 h dem\nInventar 2022 wird der Käferexperte Roman Graf Licht ins Dunkel\nb
 ringen und über die faszinierende Welt dieser Insektengruppe und\nihre Be
 deutung berichten.\n
DTSTART:20230624T120000Z
DTEND:20230624T140000Z
END:VEVENT
END:VCALENDAR
